Workbook

Sheet Instructions
A1: Building an MRP
A3: This practice assignment will give you an opportunity to work through the planning for production of three new products. You will "program" Excel to be your MRP.
A5: Your job is to determine the order quantities and order dates for the raw materials required for production.
A7: 1 | B7: Enter your birth month, day of month, and year as the forecast for each product on the Forecast tab.
A8: 2 | B8: Determine the quantity and order date for the parts needed to purchase, and enter these on the Purchase Order tab.
A10: Assume:
B11: Production will begin on | E11: =_xlfn.CONCAT(IF(MONTH(TODAY())<6,"10/01/","04/01/"),IF(MONTH(TODAY())<6,YEAR(TODAY()),YEAR(TODAY())+1)) -> 10/01/2023
B12: There is no current stock of these parts.
B13: You need at least one week's worth of parts by the start of production.
A15: Use formulae in Excel to do these calculations. That is, don't do them by hand and enter the answers. In addition to being more efficient in calculating quantities, a possibly more important reason appears when you -
A17: Answer the questions below. Excel is one of the best tools for scenario analyses, because linking cells using formulae allows us to see the many "What If" scenarios so important to business, particularly management.
A19: 1 | B19: What happens to raw material requirements if engineering discovers that the WIDGET01 BOM was wrong, and the quantity of blue wire assemblies should have been 500? Will this affect production?
B20: It would affect the production rate due to shortage of materials.
A22: 2 | B22: If sales exceed forecast by 50% on all three products, will the production facility have enough parts to meet demand in the first month? If not, which products will come up short?
B23: for widget01, 13686, 26348 and 36887 will have enough paarts to meet the demand. In widget07 the product has been canccled due to unpresident safety issues.
A25: 3 | B25: What happens to raw material requirements if you learn one month before production that the WIDGET07 product has been canceled due to safety issues?
B26: there would be a lot less material requirement.
A28: 4 | B28: What solutions can you think of for any of the above scenarios?
B29: Order more materials incase of shortage and a better supply chain management.

Sheet PurchaseOrders
A2: Purchase Orders to Place
B4: Part Number | C4: Date of First Order | D4: Quantity of First Order | E4: Quantity Unit
B5: 10699 | C5: =G5-'Part Attributes'!F5 -> 37736 | D5: 1000 | E5: ea | F5: 15 | G5: 37751
B6: 12236 | C6: =G5-'Part Attributes'!F6 -> 37691 | D6: 1000 | E6: ea | F6: 60
B7: 13127 | C7: =G5-'Part Attributes'!F7 -> 37736 | D7: 125 | E7: ea | F7: 15
B8: 13686 | C8: =G5-'Part Attributes'!F8 -> 37736 | D8: 125 | E8: ea | F8: 15
B9: 13757 | C9: =G5-'Part Attributes'!F9 -> 37736 | D9: 125 | E9: ea | F9: 15
B10: 14650 | C10: =G5-'Part Attributes'!F10 -> 37741 | D10: 100 | E10: ea | F10: 10
B11: 15078 | C11: =G5-'Part Attributes'!F11 -> 37706 | D11: 50 | E11: ea | F11: 45
B12: 17301 | C12: =G5-F12 -> 37626 | D12: 100 | E12: ea | F12: 125
B13: 17304 | C13: =G5-F13 -> 37601 | D13: 100 | E13: ea | F13: 150
B14: 19223 | C14: =G5-F14 -> 37731 | D14: 1 | E14: ea | F14: 20
B15: 19230 | C15: =G5-F15 -> 37731 | D15: 1 | E15: ea | F15: 20
B16: 20365 | C16: =G5-F16 -> 37750 | D16: 1 | E16: ea | F16: 1
B17: 23820 | C17: =G5-F17 -> 37746 | D17: 100 | E17: ea | F17: 5
B18: 25920 | C18: =G5-F18 -> 37746 | D18: 100 | E18: ea | F18: 5
B19: 26349 | C19: =G5-F19 -> 37748 | D19: 10000 | E19: ea | F19: 3
B20: 27363 | C20: =G5-F20 -> 37748 | D20: 500 | E20: ea | F20: 3
B21: 28847 | C21: =G5-F21 -> 37746 | D21: 1 | E21: ea | F21: 5
B22: 30417 | C22: =G5-F22 -> 37601 | D22: 1000 | E22: ea | F22: 150
B23: 30917 | C23: =G5-F23 -> 37631 | D23: 5000 | E23: ea | F23: 120
B24: 31617 | C24: =G5-F24 -> 37736 | D24: 150 | E24: ea | F24: 15
B25: 31633 | C25: =G5-F25 -> 37736 | D25: 50 | E25: ea | F25: 15
B26: 35407 | C26: =G5-F26 -> 37748 | D26: 500 | E26: ft | F26: 3
B27: 36887 | C27: =G5-F27 -> 37748 | D27: 1200 | E27: ft | F27: 3

Sheet Forecast
A2: Forecast
B4: Finished Good Number | C4: Monthly Forecast
B5: WIDGET01 | C5: 5
B6: WIDGET07 | C6: 10
B7: DOODAD86 | C7: 3

Sheet BOMs
A2: Bills-of-Materials (BOMs)
B4: WIDGET01
C5: Part Number | D5: Part Description | E5: Quantity | F5: Quantity Unit
C6: 10699 | D6: Flux capacitor (33pF) | E6: 12 | F6: ea
C7: 12236 | D7: Air gap switch | E7: 2 | F7: ea
C8: 13127 | D8: Red wire assembly | E8: 7 | F8: ea
C9: 13686 | D9: White wire assembly | E9: 50 | F9: ea
C10: 13757 | D10: Blue wire assembly | E10: 6 | F10: ea
C11: 14650 | D11: Ground strap | E11: 1 | F11: ea
C12: 15078 | D12: Fan, 4" | E12: 1 | F12: ea
C13: 17304 | D13: LCD screen, 9" | E13: 1 | F13: ea
C14: 19223 | D14: Widget Sub #23 | E14: 1 | F14: ea
C15: 20365 | D15: Metal cabinet, 6' | E15: 1 | F15: ea
C16: 23820 | D16: Corner bracket #20 | E16: 4 | F16: ea
C17: 25920 | D17: Mounting bracket, 9" | E17: 2 | F17: ea
... C23: 36887 | D23: Bubble wrap | E23: 40.5 | F23: ft
B27: WIDGET07
C28: Part Number | D28: Part Description | E28: Quantity | F28: Quantity Unit
C29: 10699 | D29: Flux capacitor (33pF) | E29: 8 | F29: ea
C30: 12236 | D30: Air gap switch | E30: 2 | F30: ea
C31: 13127 | D31: Red wire assembly | E31: 5 | F31: ea
C32: 13686 | D32: White wire assembly | E32: 42 | F32: ea
C33: 13757 | D33: Blue wire assembly | E33: 3 | F33: ea
C34: 14650 | D34: Ground strap | E34: 1 | F34: ea
C35: 17301 | D35: LCD screen, 6" | E35: 1 | F35: ea
C36: 19230 | D36: Widget Sub #30 | E36: 1 | F36: ea
C37: 20365 | D37: Metal cabinet, 6' | E37: 1 | F37: ea
C38: 25920 | D38: Mounting bracket, 9" | E38: 1 | F38: ea
C39: 26349 | D39: #4 screws, 3/4-in | E39: 32 | F39: ea
C40: 27363 | D40: Hinges | E40: 2 | F40: ea
... C44: 36887 | D44: Bubble wrap | E44: 40.5 | F44: ft
B48: DOODAD86
C49: Part Number | D49: Part Description | E49: Quantity | F49: Quantity Unit
C50: 13127 | D50: Red wire assembly | E50: 1 | F50: ea
C51: 13686 | D51: White wire assembly | E51: 2 | F51: ea
C52: 13757 | D52: Blue wire assembly | E52: 1 | F52: ea
C53: 19230 | D53: Widget Sub #30 | E53: 1 | F53: ea
C54: 25920 | D54: Mounting bracket, 9" | E54: 1 | F54: ea
C55: 28847 | D55: Cabinet door, 6' | E55: 1 | F55: ea
C56: 30417 | D56: Clamshell, 6" | E56: 1 | F56: ea
C57: 30917 | D57: Clam Insert, DOODAD86 | E57: 1 | F57: ea
C58: 31617 | D58: Clamshell box, 12 ct. | E58: 0.083 | F58: ea
C59: 35407 | D59: Packaging tape | E59: 1.1 | F59: ft

Sheet Part Attributes
A2: Raw Material Attributes
B4: Part Number | C4: Part Description | D4: Quantity Unit | E4: Order Quantity (multiples of) | F4: Lead Time (days)
B5: 10699 | C5: Flux capacitor (33pF) | D5: ea | E5: 1000 | F5: 15
B6: 12236 | C6: Air gap switch | D6: ea | E6: 1000 | F6: 60
B7: 13127 | C7: Red wire assembly | D7: ea | E7: 125 | F7: 15
B8: 13686 | C8: White wire assembly | D8: ea | E8: 125 | F8: 15
B9: 13757 | C9: Blue wire assembly | D9: ea | E9: 125 | F9: 15
B10: 14650 | C10: Ground strap | D10: ea | E10: 100 | F10: 10
B11: 15078 | C11: Fan, 4" | D11: ea | E11: 50 | F11: 45
B12: 17301 | C12: LCD screen, 6" | D12: ea | E12: 100 | F12: 125
B13: 17304 | C13: LCD screen, 9" | D13: ea | E13: 100 | F13: 150
B14: 19223 | C14: Widget Sub #23 | D14: ea | E14: 1 | F14: 20
B15: 19230 | C15: Widget Sub #30 | D15: ea | E15: 1 | F15: 20
B16: 20365 | C16: Metal cabinet, 6' | D16: ea | E16: 1 | F16: 1
... B27: 36887 | C27: Bubble wrap | D27: ft | E27: 1200 | F27: 3
