Workbook

Sheet Summary
A1: Forecasting Product Sales
A3: This practice assignment will give you an opportunity to practice forecasting using several quantitative methods.
A5: You are head of operations - actually you're the entire operations team - for Tractors, Tractors, and More Tractors, a suburban New York retailer of tractors.
A6: It is late June 2007, and it's nearly time for your monthly meeting to review the forecast with the ownership team.
A7: They've been on your case to improve your forecasting accuracy over the past year, so this month you've decided to present forecasts from multiple methods and identify your preferred results.
A9: Directions
B10: Generate forecasts for your most popular SKU, the J325 All Seasons Combo Package, which includes your base lawn mowing tractor along with rototiller and snowthrower attachments.
B11: Choose "your" proposed forecast along with lower and upper limits. These can come directly from one of the ten methods, or you can use your own aggregating methods.
B12: You have three years worth of sales data, and you will forecast six months.
B13: Create two scatter plots with connecting lines of sales or forecasted sales by month for the entire 42 months.
C14: On one plot, include all ten forecast methods and your proposed forecast (make that one thicker line weight).
C15: On the other plot, include your proposed forecast and your lower and upper limits.
C18: Paste "11 Forecasts" plot here | H18: Paste proposed forecast with limits plot here
A31: Questions
B32: Which forecasting method resulted in the forecast that was generally the smallest?
C33: Decomposed time series
B35: Which forecasting method resulted in the forecast that was generally the largest?
C36: Weighted Moving average plus trend
B38: How did you select your proposed forecast?
C39: By taking the average from each method and month.
B41: How would you use your forecast lower and upper limits to inform purchasing decisions of J325 tractors, rototillers, and snowthrowers?
C43: It’s the smallest and largest amounts for each method and the months

Sheet Time Only
A1: SUMMARY OUTPUT
A3: Regression Statistics
A4: Multiple R | B4: 0.57229096
A5: R Square | B5: 0.32751694
A6: Adjusted R Square | B6: 0.30773803
A7: Standard Error | B7: 49.233909
A8: Observations | B8: 36
A10: ANOVA
B11: df | C11: SS | D11: MS | E11: F | F11: Significance F
A12: Regression | B12: 1 | C12: 40138.393 | D12: 40138.393 | E12: 16.558894 | F12: 0.00026539212
A13: Residual | B13: 34 | C13: 82415.246 | D13: 2423.9778
A14: Total | B14: 35 | C14: 122553.64
B16: Coefficients | C16: Standard Error | D16: t Stat | E16: P-value | F16: Lower 95% | G16: Upper 95% | H16: Lower 95.0% | I16: Upper 95.0%
A17: Intercept | B17: 539.23016 | C17: 16.759285 | D17: 32.175011 | E17: 4.792397e-27 | F17: 505.17119 | G17: 573.28912 | H17: 505.17119 | I17: 573.28912
A18: X Variable 1 | B18: 3.2142857 | C18: 0.78989399 | D18: 4.0692621 | E18: 0.00026539212 | F18: 1.609028 | G18: 4.8195434 | H18: 1.609028 | I18: 4.8195434

Sheet Causual
A1: SUMMARY OUTPUT
A3: Regression Statistics
A4: Multiple R | B4: 0.67934284
A5: R Square | B5: 0.46150669
A6: Adjusted R Square | B6: 0.41102294
A7: Standard Error | B7: 45.412799
A8: Observations | B8: 36
A10: ANOVA
B11: df | C11: SS | D11: MS | E11: F | F11: Significance F
A12: Regression | B12: 3 | C12: 56559.324 | D12: 18853.108 | E12: 9.1416883 | F12: 0.00016206352
A13: Residual | B13: 32 | C13: 65994.315 | D13: 2062.3223
A14: Total | B14: 35 | C14: 122553.64
B16: Coefficients | C16: Standard Error | D16: t Stat | E16: P-value | F16: Lower 95% | G16: Upper 95% | H16: Lower 95.0% | I16: Upper 95.0%
A17: Intercept | B17: 484.3129 | C17: 417.30104 | D17: 1.160584 | E17: 0.25439649 | F17: -365.70151 | G17: 1334.3273 | H17: -365.70151 | I17: 1334.3273
A18: Unemployment Number | B18: 746.87745 | C18: 7596.2168 | D18: 0.098322292 | E18: 0.92228969 | F18: -14726.11 | G18: 16219.865 | H18: -14726.11 | I18: 16219.865
A19: Snowfall | B19: 3.7368987 | C19: 1.3406205 | D19: 2.7874397 | E19: 0.0088638302 | F19: 1.0061441 | G19: 6.4676532 | H19: 1.0061441 | I19: 6.4676532
A20: Month Number | B20: 3.6861136 | C20: 2.6050632 | D20: 1.4149805 | E20: 0.16673241 | F20: -1.6202265 | G20: 8.9924538 | H20: -1.6202265 | I20: 8.9924538

Sheet Decomposed time series
A3: 5t | B3: Sum of Actual Sales | C3: Sum of Quarters
A4: 1 | B4: 5735 | C4: 9
A5: 2 | B5: 5879 | C5: 18
A6: 3 | B6: 4792 | C6: 27
A7: 4 | B7: 5147 | C7: 36
A8: Grand Total | B8: 21553 | C8: 90

Sheet Piviot tabel
A3: Row Labels | B3: Sum of Actual Sales | C3: Count of Quarter | D3: Prop of Sale | E3: Prop of Months | F3: Multiplier
A4: 1 | B4: 5735 | C4: 9 | D4: =GETPIVOTDATA("Sum of Actual Sales",$A$3,"Quarter",1)/GETPIVOTDATA("Sum of Actual Sales",$A$3) -> 0.26608825 | E4: =GETPIVOTDATA("Count of Quarter",$A$3,"Quarter",1)/GETPIVOTDATA("Count of Quarter",$A$3) -> 0.25 | F4: =D4/E4 -> 1.064353
A5: 2 | B5: 5879 | C5: 9 | D5: =GETPIVOTDATA("Sum of Actual Sales",$A$3,"Quarter",2)/GETPIVOTDATA("Sum of Actual Sales",$A$3) -> 0.27276945 | E5: =GETPIVOTDATA("Count of Quarter",$A$3,"Quarter",2)/GETPIVOTDATA("Count of Quarter",$A$3) -> 0.25 | F5: =D5/E5 -> 1.0910778
A6: 3 | B6: 4792 | C6: 9 | D6: =GETPIVOTDATA("Sum of Actual Sales",$A$3,"Quarter",3)/GETPIVOTDATA("Sum of Actual Sales",$A$3) -> 0.22233564 | E6: =GETPIVOTDATA("Count of Quarter",$A$3,"Quarter",3)/GETPIVOTDATA("Count of Quarter",$A$3) -> 0.25 | F6: =D6/E6 -> 0.88934255
A7: 4 | B7: 5147 | C7: 9 | D7: =GETPIVOTDATA("Sum of Actual Sales",$A$3,"Quarter",4)/GETPIVOTDATA("Sum of Actual Sales",$A$3) -> 0.23880666 | E7: =GETPIVOTDATA("Count of Quarter",$A$3,"Quarter",4)/GETPIVOTDATA("Count of Quarter",$A$3) -> 0.25 | F7: =D7/E7 -> 0.95522665
A8: Grand Total | B8: 21553 | C8: 36

Sheet Forecast_Sheet
A2: Quarter | B2: MonthNum | C2: Date | D2: Actual Sales | E2: Moving Average (3-month) | F2: Moving Average + Trend | G2: Weighted Moving Average (3-month) | H2: Weighted Moving Average + Trend | I2: Exponential Smoothing | J2: Exponential Smoothing + Trend | K2: Time-only Regression | L2: Causal | M2: Decomposed Time Series | N2: Excel | O2: Your Proposed Forecast | P2: Your Lower Limit | Q2: Your Upper Limit | S2: Exponential Smoothing Additional Information | T2: Count of Quarters | U2: Unemployment Rate | V2: Snowfall [inches] (NY metro area) | W2: MonthNum | X2: Actual Sales
A3: 3 | B3: 1 | C3: 38169 | D3: 501 | S3: Forecast (t-1) | T3: 3 | U3: 0.055 | V3: 0 | W3: 1 | X3: 501
A4: 3 | B4: 2 | C4: 38200 | D4: 503 | S4: 640 | T4: 3 | U4: 0.054 | V4: 0 | W4: 2 | X4: 503
A5: 3 | B5: 3 | C5: 38231 | D5: 505 | S5: Alpha | T5: 3 | U5: 0.054 | V5: 0 | W5: 3 | X5: 505
A6: 4 | B6: 4 | C6: 38261 | D6: 507 | S6: 0.2 | T6: 4 | U6: 0.055 | V6: 0 | W6: 4 | X6: 507
A7: 4 | B7: 5 | C7: 38292 | D7: 560 | T7: 4 | U7: 0.054 | V7: 0 | W7: 5 | X7: 560
A8: 4 | B8: 6 | C8: 38322 | D8: 576 | T8: 4 | U8: 0.054 | V8: 3 | W8: 6 | X8: 576
A9: 1 | B9: 7 | C9: 38353 | D9: 624 | T9: 1 | U9: 0.053 | V9: 15.3 | W9: 7 | X9: 624
A10: 1 | B10: 8 | C10: 38384 | D10: 639 | T10: 1 | U10: 0.054 | V10: 15.8 | W10: 8 | X10: 639
A11: 1 | B11: 9 | C11: 38412 | D11: 593 | T11: 1 | U11: 0.052 | V11: 6.9 | W11: 9 | X11: 593
A12: 2 | B12: 10 | C12: 38443 | D12: 582 | T12: 2 | U12: 0.052 | V12: 0 | W12: 10 | X12: 582
A13: 2 | B13: 11 | C13: 38473 | D13: 667 | T13: 2 | U13: 0.051 | V13: 0 | W13: 11 | X13: 667
A14: 2 | B14: 12 | C14: 38504 | D14: 644 | T14: 2 | U14: 0.05 | V14: 0 | W14: 12 | X14: 644
A15: 3 | B15: 13 | C15: 38534 | D15: 542 | T15: 3 | U15: 0.05 | V15: 0 | W15: 13 | X15: 542
A16: 3 | B16: 14 | C16: 38565 | D16: 539 | T16: 3 | U16: 0.049 | V16: 0 | W16: 14 | X16: 539
A17: 3 | B17: 15 | C17: 38596 | D17: 546 | T17: 3 | U17: 0.05 | V17: 0 | W17: 15 | X17: 546
A18: 4 | B18: 16 | C18: 38626 | D18: 532 | T18: 4 | U18: 0.05 | V18: 0 | W18: 16 | X18: 532
... A37: 2 | B37: 35 | C37: 39203 | D37: 725 | T37: 2 | U37: 0.044 | V37: 0 | W37: 35 | X37: 725
A38: 2 | B38: 36 | C38: 39234 | D38: 670 | E38: 670 | F38: 670 | G38: 670 | H38: 670 | I38: 670 | J38: 670 | K38: 670 | L38: 670 | M38: 670 | N38: 670 | O38: 670 | P38: 670 | Q38: 670 | T38: 2 | U38: 0.046 | V38: 0 | W38: 36 | X38: 670
A39: 3 | B39: 37 | C39: 39264 | E39: =AVERAGE($D$36:$D$38) -> 676.33333 | F39: =E39+('Time Only'!$B$18*(B38-$B$37)) -> 679.54762 | G39: =(3*$D$36+$D$37*2+$D$38*1)/(3+2+1) -> 670.33333 | H39: =G39+'Time Only'!$B$18*(Forecast_Sheet!B38-Forecast_Sheet!$B$37) -> 673.54762 | I39: =$S$4+$S$6*($D$38-$D$37) -> 629 | J39: =I39+('Time Only'!$B$18*(Forecast_Sheet!B38-Forecast_Sheet!$B$37)) -> 632.21429 | K39: ='Time Only'!$B$17+'Time Only'!$B$18*Forecast_Sheet!B39 -> 658.15873 | L39: =Causual!$B$17+(Causual!$B$20*Forecast_Sheet!B39)+(Causual!$B$18*External_Data!B41) -> 655.80235 | M39: =VLOOKUP(A39,'Piviot tabel'!$A$4:$F$7,6,FALSE)*('Time Only'!$B$17+'Time Only'!$B$18*Forecast_Sheet!B39) -> 585.32856 | N39: =_xlfn.FORECAST.ETS(C39,$D$3:$D$38,$C$3:$C$38,3) -> 666.1917 | O39: =AVERAGE(E39:N39) -> 652.64575 | P39: =+MIN(F39:O39) -> 585.32856 | Q39: =MAX(F39:P39) -> 679.54762 | T39: 3 | U39: 0.047 | V39: 0 | W39: 37
A40: 3 | B40: 38 | C40: 39295 | E40: =AVERAGE($D$36:$D$38) -> 676.33333 | F40: =E40+('Time Only'!$B$18*(B39-$B$37)) -> 682.7619 | G40: =(3*$D$36+$D$37*2+$D$38*1)/(3+2+1) -> 670.33333 | H40: =G40+'Time Only'!$B$18*(Forecast_Sheet!B39-Forecast_Sheet!$B$37) -> 676.7619 | I40: =$S$4+$S$6*($D$38-$D$37) -> 629 | J40: =I40+('Time Only'!$B$18*(Forecast_Sheet!B39-Forecast_Sheet!$B$37)) -> 635.42857 | K40: ='Time Only'!$B$17+'Time Only'!$B$18*Forecast_Sheet!B40 -> 661.37302 | L40: =Causual!$B$17+(Causual!$B$20*Forecast_Sheet!B40)+(Causual!$B$18*External_Data!B42) -> 658.74159 | M40: =VLOOKUP(A40,'Piviot tabel'!$A$4:$F$7,6,FALSE)*('Time Only'!$B$17+'Time Only'!$B$18*Forecast_Sheet!B40) -> 588.18717 | N40: =_xlfn.FORECAST.ETS(C40,$D$3:$D$38,$C$3:$C$38,3) -> 686.7111 | O40: =AVERAGE(E40:N40) -> 656.56319 | P40: =+MIN(F40:O40) -> 588.18717 | Q40: =MAX(F40:P40) -> 686.7111 | T40: 3 | U40: 0.046 | V40: 0 | W40: 38
A41: 3 | B41: 39 | C41: 39326 | E41: =AVERAGE($D$36:$D$38) -> 676.33333 | F41: =E41+('Time Only'!$B$18*(B40-$B$37)) -> 685.97619 | G41: =(3*$D$36+$D$37*2+$D$38*1)/(3+2+1) -> 670.33333 | H41: =G41+'Time Only'!$B$18*(Forecast_Sheet!B40-Forecast_Sheet!$B$37) -> 679.97619 | I41: =$S$4+$S$6*($D$38-$D$37) -> 629 | J41: =I41+('Time Only'!$B$18*(Forecast_Sheet!B40-Forecast_Sheet!$B$37)) -> 638.64286 | K41: ='Time Only'!$B$17+'Time Only'!$B$18*Forecast_Sheet!B41 -> 664.5873 | L41: =Causual!$B$17+(Causual!$B$20*Forecast_Sheet!B41)+(Causual!$B$18*External_Data!B43) -> 663.17458 | M41: =VLOOKUP(A41,'Piviot tabel'!$A$4:$F$7,6,FALSE)*('Time Only'!$B$17+'Time Only'!$B$18*Forecast_Sheet!B41) -> 591.04577 | N41: =_xlfn.FORECAST.ETS(C41,$D$3:$D$38,$C$3:$C$38,3) -> 672.72371 | O41: =AVERAGE(E41:N41) -> 657.17933 | P41: =+MIN(F41:O41) -> 591.04577 | Q41: =MAX(F41:P41) -> 685.97619 | T41: 3 | U41: 0.047 | V41: 0 | W41: 39
A42: 4 | B42: 40 | C42: 39356 | E42: =AVERAGE($D$36:$D$38) -> 676.33333 | F42: =E42+('Time Only'!$B$18*(B41-$B$37)) -> 689.19048 | G42: =(3*$D$36+$D$37*2+$D$38*1)/(3+2+1) -> 670.33333 | H42: =G42+'Time Only'!$B$18*(Forecast_Sheet!B41-Forecast_Sheet!$B$37) -> 683.19048 | I42: =$S$4+$S$6*($D$38-$D$37) -> 629 | J42: =I42+('Time Only'!$B$18*(Forecast_Sheet!B41-Forecast_Sheet!$B$37)) -> 641.85714 | K42: ='Time Only'!$B$17+'Time Only'!$B$18*Forecast_Sheet!B42 -> 667.80159 | L42: =Causual!$B$17+(Causual!$B$20*Forecast_Sheet!B42)+(Causual!$B$18*External_Data!B44) -> 666.86069 | M42: =VLOOKUP(A42,'Piviot tabel'!$A$4:$F$7,6,FALSE)*('Time Only'!$B$17+'Time Only'!$B$18*Forecast_Sheet!B42) -> 637.90187 | N42: =_xlfn.FORECAST.ETS(C42,$D$3:$D$38,$C$3:$C$38,3) -> 676.3782 | O42: =AVERAGE(E42:N42) -> 663.88471 | P42: =+MIN(F42:O42) -> 629 | Q42: =MAX(F42:P42) -> 689.19048 | T42: 4 | U42: 0.047 | V42: 0 | W42: 40
A43: 4 | B43: 41 | C43: 39387 | E43: =AVERAGE($D$36:$D$38) -> 676.33333 | F43: =E43+('Time Only'!$B$18*(B42-$B$37)) -> 692.40476 | G43: =(3*$D$36+$D$37*2+$D$38*1)/(3+2+1) -> 670.33333 | H43: =G43+'Time Only'!$B$18*(Forecast_Sheet!B42-Forecast_Sheet!$B$37) -> 686.40476 | I43: =$S$4+$S$6*($D$38-$D$37) -> 629 | J43: =I43+('Time Only'!$B$18*(Forecast_Sheet!B42-Forecast_Sheet!$B$37)) -> 645.07143 | K43: ='Time Only'!$B$17+'Time Only'!$B$18*Forecast_Sheet!B43 -> 671.01587 | L43: =Causual!$B$17+(Causual!$B$20*Forecast_Sheet!B43)+(Causual!$B$18*External_Data!B45) -> 670.5468 | M43: =VLOOKUP(A43,'Piviot tabel'!$A$4:$F$7,6,FALSE)*('Time Only'!$B$17+'Time Only'!$B$18*Forecast_Sheet!B43) -> 640.97224 | N43: =_xlfn.FORECAST.ETS(C43,$D$3:$D$38,$C$3:$C$38,3) -> 696.8976 | O43: =AVERAGE(E43:N43) -> 667.89801 | P43: =+MIN(F43:O43) -> 629 | Q43: =MAX(F43:P43) -> 696.8976 | T43: 4 | U43: 0.047 | V43: 1.1 | W43: 41
A44: 4 | B44: 42 | C44: 39417 | E44: =AVERAGE($D$36:$D$38) -> 676.33333 | F44: =E44+('Time Only'!$B$18*(B43-$B$37)) -> 695.61905 | G44: =(3*$D$36+$D$37*2+$D$38*1)/(3+2+1) -> 670.33333 | H44: =G44+'Time Only'!$B$18*(Forecast_Sheet!B43-Forecast_Sheet!$B$37) -> 689.61905 | I44: =$S$4+$S$6*($D$38-$D$37) -> 629 | J44: =I44+('Time Only'!$B$18*(Forecast_Sheet!B43-Forecast_Sheet!$B$37)) -> 648.28571 | K44: ='Time Only'!$B$17+'Time Only'!$B$18*Forecast_Sheet!B44 -> 674.23016 | L44: =Causual!$B$17+(Causual!$B$20*Forecast_Sheet!B44)+(Causual!$B$18*External_Data!B46) -> 674.23292 | M44: =VLOOKUP(A44,'Piviot tabel'!$A$4:$F$7,6,FALSE)*('Time Only'!$B$17+'Time Only'!$B$18*Forecast_Sheet!B44) -> 644.04262 | N44: =_xlfn.FORECAST.ETS(C44,$D$3:$D$38,$C$3:$C$38,3) -> 682.91022 | O44: =AVERAGE(E44:N44) -> 668.46064 | P44: =+MIN(F44:O44) -> 629 | Q44: =MAX(F44:P44) -> 695.61905 | T44: 4 | U44: 0.047 | V44: 3.6 | W44: 42
U45: Values forecasted by labor economists | V45: Values forecasted by local meterologists

Sheet External_Data
A2: Below are some external data that may be useful in your causal forecasting model. You are free to use outside sources for economic data or other data of interest.
A4: Date | B4: Unemployment Rate | C4: Snowfall [inches] (NY metro area)
A5: 38169 | B5: 0.055 | C5: 0
A6: 38200 | B6: 0.054 | C6: 0
A7: 38231 | B7: 0.054 | C7: 0
A8: 38261 | B8: 0.055 | C8: 0
A9: 38292 | B9: 0.054 | C9: 0
A10: 38322 | B10: 0.054 | C10: 3
A11: 38353 | B11: 0.053 | C11: 15.3
A12: 38384 | B12: 0.054 | C12: 15.8
A13: 38412 | B13: 0.052 | C13: 6.9
A14: 38443 | B14: 0.052 | C14: 0
A15: 38473 | B15: 0.051 | C15: 0
A16: 38504 | B16: 0.05 | C16: 0
... A46: 39417 | B46: 0.047 | C46: 3.6
B47: Values forecasted by labor economists | C47: Values forecasted by local meterologists

Sheet Key
A2: Date | B2: Season | C2: DJIA
A3: 38169 | B3: 0 | C3: 10152.088
A4: 38200 | B4: 0 | C4: 10032.801
A5: 38231 | B5: 0 | C5: 10204.67
A6: 38261 | B6: 0 | C6: 10001.602
A7: 38292 | B7: 1 | C7: 10411.756
A8: 38322 | B8: 1 | C8: 10673.384
A9: 38353 | B9: 2 | C9: 10539.513
A10: 38384 | B10: 2 | C10: 10723.816
A11: 38412 | B11: 1 | C11: 10682.093
A12: 38443 | B12: 1 | C12: 10283.186
A13: 38473 | B13: 3 | C13: 10377.179
A14: 38504 | B14: 2 | C14: 10486.682
... A44: 39417 | B44: 1 | C44: 13406.989
